BEGIN:VCALENDAR
VERSION:2.0
PRODID:-//eventon.com NONSGML v1.0//EN
CALSCALE:GREGORIAN
METHOD:PUBLISH
BEGIN:VEVENT
UID:69e62d26b309f
DTSTAMP:20260420T134158Z
DTSTART:20200625T140000Z
DTEND:20200625T160000Z
LOCATION:Pavillion Niederwil Schulweg (vis à vis Kirche)
SUMMARY:Senioren-Treff
DESCRIPTION:Der nächste Senioren-Treff findet am Donnerstag\,  25.6.2020\,
   14-16 Uhr\,  im Pavillon am Schulweg Niederwil (vis à vis Kirche) statt.
  Bei Kaffe und Kuchen geniessen wir das Beisammensein. Es sind alle Seniori
 nnen und Senioren von Niederwil\,  Nesselnbach und Fischbach-Göslikon herz
 lich dazu eingeladen. Seniorenrat\nhttps://www.fischbach-goeslikon.ch/event
 s/senioren-treff-7/
URL:https://www.fischbach-goeslikon.ch/events/senioren-treff-7/
END:VEVENT
END:VCALENDAR