BEGIN:VCALENDAR
VERSION:2.0
PRODID:-//eventon.com NONSGML v1.0//EN
CALSCALE:GREGORIAN
METHOD:PUBLISH
BEGIN:VEVENT
UID:69e735ae41c77
DTSTAMP:20260421T083038Z
DTSTART:20200508T173000Z
DTEND:20200508T193000Z
LOCATION:
SUMMARY:Schiesstage für das Obligatorische
DESCRIPTION:Schiesstage für das Obligatorische\nhttps://www.fischbach-goes
 likon.ch/events/schiesstage-fuer-das-obligatorische/
URL:https://www.fischbach-goeslikon.ch/events/schiesstage-fuer-das-obligatorische/
END:VEVENT
END:VCALENDAR