BEGIN:VCALENDAR
VERSION:2.0
PRODID:-//eventon.com NONSGML v1.0//EN
CALSCALE:GREGORIAN
METHOD:PUBLISH
BEGIN:VEVENT
UID:69e7389982d54
DTSTAMP:20260421T084305Z
DTSTART:20190604
DTEND:20190605
LOCATION:
SUMMARY:Grüngutabfuhr
DESCRIPTION:Grüngutabfuhr\nhttps://www.fischbach-goeslikon.ch/events/gruen
 gutabfuhr-15/
URL:https://www.fischbach-goeslikon.ch/events/gruengutabfuhr-15/
END:VEVENT
END:VCALENDAR