BEGIN:VCALENDAR
VERSION:2.0
PRODID:-//eventon.com NONSGML v1.0//EN
CALSCALE:GREGORIAN
METHOD:PUBLISH
BEGIN:VEVENT
UID:69e93cf64d1cb
DTSTAMP:20260422T212614Z
DTSTART:20250529
DTEND:20250530
LOCATION:
SUMMARY:Maibummel
DESCRIPTION:Maibummel\nhttps://www.fischbach-goeslikon.ch/events/maibummel-
 4/
URL:https://www.fischbach-goeslikon.ch/events/maibummel-4/
END:VEVENT
END:VCALENDAR