BEGIN:VCALENDAR
VERSION:2.0
PRODID:-//eventon.com NONSGML v1.0//EN
CALSCALE:GREGORIAN
METHOD:PUBLISH
BEGIN:VEVENT
UID:69e88bff0d3e2
DTSTAMP:20260422T085111Z
DTSTART:20240313
DTEND:20240314
LOCATION:
SUMMARY:Kreativ-Day: Handlettering
DESCRIPTION:Kreativ-Day: Handlettering\nhttps://www.fischbach-goeslikon.ch/
 events/kreativ-day-handlettering/
URL:https://www.fischbach-goeslikon.ch/events/kreativ-day-handlettering/
END:VEVENT
END:VCALENDAR