BEGIN:VCALENDAR
VERSION:2.0
PRODID:-//eventon.com NONSGML v1.0//EN
CALSCALE:GREGORIAN
METHOD:PUBLISH
BEGIN:VEVENT
UID:69e98584be044
DTSTAMP:20260423T023548Z
DTSTART:20250121
DTEND:20250122
LOCATION:Ortsbürgersaal Gemeindehaus Fischbach-Göslikon Alte Landstrasse 27
SUMMARY:Mütter- und Väterberatung
DESCRIPTION:Mütter- und Väterberatung\nhttps://www.fischbach-goeslikon.ch
 /events/muetter-und-vaeterberatung-49/
URL:https://www.fischbach-goeslikon.ch/events/muetter-und-vaeterberatung-49/
END:VEVENT
END:VCALENDAR