BEGIN:VCALENDAR
VERSION:2.0
PRODID:-//eventon.com NONSGML v1.0//EN
CALSCALE:GREGORIAN
METHOD:PUBLISH
BEGIN:VEVENT
UID:69e8a0c30c15f
DTSTAMP:20260422T101947Z
DTSTART:20241222T153000Z
DTEND:20241222T235900Z
LOCATION:katholische Kirche Fischbach-Göslikon
SUMMARY:Familien-Weihnachtsanlass
DESCRIPTION:Kurz vor Weihnachten laden wir alle ein\,  rund um die Kirche M
 aria Himmelfahrt auf verschiedene Arten dem Thema Schenken zu begegnen. Im 
 Zentrum steht ein rotes Paket. Was wohl darin steckt? Wir freuen uns über 
 grosse und kleine Gwundernasen und hoffen\,  mit diesem Anlass die Wartezei
 t bis Weihnachten zu verkürzen.[..]\nhttps://www.fischbach-goeslikon.ch/ev
 ents/familien-weihnachtsanlass/
URL:https://www.fischbach-goeslikon.ch/events/familien-weihnachtsanlass/
END:VEVENT
END:VCALENDAR