BEGIN:VCALENDAR
VERSION:2.0
PRODID:-//eventon.com NONSGML v1.0//EN
CALSCALE:GREGORIAN
METHOD:PUBLISH
BEGIN:VEVENT
UID:69ea8b8ddb160
DTSTAMP:20260423T211349Z
DTSTART:20240328T140000Z
DTEND:20240328T160000Z
LOCATION:Pavillon am Schulweg in Niederwil (vis-à-vis Kirche)
SUMMARY:Seniorentreff
DESCRIPTION:Der nächste Senioren-Treff findet am Donnerstag\,  28. März 2
 024\,  14.00 – 16.00 Uhr\,  im Pavillon am Schulweg\,  Niederwil (vis à 
 vis Kirche)\,  statt. Bei Kaffee und Kuchen geniessen wir das Beisammensein
 . Es sind alle Seniorinnen und Senioren von Niederwil\,  Nesselnbach und Fi
 schbach-Göslikon herzlich dazu eingeladen. Es lädt Sie herzlich ein:[..]\
 nhttps://www.fischbach-goeslikon.ch/events/seniorentreff-11/
URL:https://www.fischbach-goeslikon.ch/events/seniorentreff-11/
END:VEVENT
END:VCALENDAR