BEGIN:VCALENDAR
VERSION:2.0
PRODID:-//eventon.com NONSGML v1.0//EN
CALSCALE:GREGORIAN
METHOD:PUBLISH
BEGIN:VEVENT
UID:69e6293c9d949
DTSTAMP:20260420T132516Z
DTSTART:20240629
DTEND:20240630
LOCATION:
SUMMARY:Velotour
DESCRIPTION:Velotour\nhttps://www.fischbach-goeslikon.ch/events/velotour/
URL:https://www.fischbach-goeslikon.ch/events/velotour/
END:VEVENT
END:VCALENDAR