BEGIN:VCALENDAR
VERSION:2.0
PRODID:-//eventon.com NONSGML v1.0//EN
CALSCALE:GREGORIAN
METHOD:PUBLISH
BEGIN:VEVENT
UID:69e736a043b24
DTSTAMP:20260421T083440Z
DTSTART:20231201T080000Z
DTEND:20231201T225000Z
LOCATION:katholische Kirche Fischbach-Göslikon
SUMMARY:Eucharistiefeier Herz Jesu
DESCRIPTION:Eucharistiefeier Herz Jesu mit Ignatius Okoli\nhttps://www.fisc
 hbach-goeslikon.ch/events/eucharistiefeier-herz-jesu-16/
URL:https://www.fischbach-goeslikon.ch/events/eucharistiefeier-herz-jesu-16/
END:VEVENT
END:VCALENDAR