BEGIN:VCALENDAR
VERSION:2.0
PRODID:-//eventon.com NONSGML v1.0//EN
CALSCALE:GREGORIAN
METHOD:PUBLISH
BEGIN:VEVENT
UID:69e4d06f7e2af
DTSTAMP:20260419T125407Z
DTSTART:20231201
DTEND:20231202
LOCATION:Fischbach-Göslikon Wald
SUMMARY:Adventsfenster
DESCRIPTION:Adventsfenster\nhttps://www.fischbach-goeslikon.ch/events/adven
 tsfenster/
URL:https://www.fischbach-goeslikon.ch/events/adventsfenster/
END:VEVENT
END:VCALENDAR