BEGIN:VCALENDAR
VERSION:2.0
PRODID:-//eventon.com NONSGML v1.0//EN
CALSCALE:GREGORIAN
METHOD:PUBLISH
BEGIN:VEVENT
UID:69e767f4254b5
DTSTAMP:20260421T120508Z
DTSTART:20221018T170000Z
DTEND:20221018T203000Z
LOCATION:Föhrenhof Wohlen
SUMMARY:Hortensien-/Herbstkranz Föhrenhof Wohlen
DESCRIPTION:Hortensien-/Herbstkranz Föhrenhof Wohlen\nhttps://www.fischbac
 h-goeslikon.ch/events/hortensien-herbstkranz-foehrenhof-wohlen/
URL:https://www.fischbach-goeslikon.ch/events/hortensien-herbstkranz-foehrenhof-wohlen/
END:VEVENT
END:VCALENDAR