BEGIN:VCALENDAR
VERSION:2.0
PRODID:-//eventon.com NONSGML v1.0//EN
CALSCALE:GREGORIAN
METHOD:PUBLISH
BEGIN:VEVENT
UID:69e4e91c25bb8
DTSTAMP:20260419T143924Z
DTSTART:20220224
DTEND:20220225
LOCATION:Gemeinde
SUMMARY:Chrabbelgruppe
DESCRIPTION:Chrabbelgruppe\nhttps://www.fischbach-goeslikon.ch/events/chrab
 belgruppe-2/
URL:https://www.fischbach-goeslikon.ch/events/chrabbelgruppe-2/
END:VEVENT
END:VCALENDAR