BEGIN:VCALENDAR
VERSION:2.0
PRODID:-//eventon.com NONSGML v1.0//EN
CALSCALE:GREGORIAN
METHOD:PUBLISH
BEGIN:VEVENT
UID:69e67e898ba4e
DTSTAMP:20260420T192913Z
DTSTART:20210430
DTEND:20210501
LOCATION:
SUMMARY:Papiersammlung
DESCRIPTION:Papiersammlung\nhttps://www.fischbach-goeslikon.ch/events/papie
 rsammlung-11/
URL:https://www.fischbach-goeslikon.ch/events/papiersammlung-11/
END:VEVENT
END:VCALENDAR