BEGIN:VCALENDAR
VERSION:2.0
PRODID:-//eventon.com NONSGML v1.0//EN
CALSCALE:GREGORIAN
METHOD:PUBLISH
BEGIN:VEVENT
UID:69e7527f67d0b
DTSTAMP:20260421T103335Z
DTSTART:20210629
DTEND:20210630
LOCATION:
SUMMARY:Grüngutabfuhr
DESCRIPTION:Grüngutabfuhr\nhttps://www.fischbach-goeslikon.ch/events/gruen
 gutabfuhr-94/
URL:https://www.fischbach-goeslikon.ch/events/gruengutabfuhr-94/
END:VEVENT
END:VCALENDAR