BEGIN:VCALENDAR
VERSION:2.0
PRODID:-//eventon.com NONSGML v1.0//EN
CALSCALE:GREGORIAN
METHOD:PUBLISH
BEGIN:VEVENT
UID:69e6555f51670
DTSTAMP:20260420T163335Z
DTSTART:20201119T090000Z
DTEND:20201119T235000Z
LOCATION:Kirche Niederwil
SUMMARY:Donnschtigs-Gottesdienst in der Kirche Niederwil
DESCRIPTION:Am 19. November 2020 findet der Donnschtigs-Gottesdienst mit Ri
 ta Wolan und Walburga Grimm statt. Wo:  Kirche Niederwil\nhttps://www.fisc
 hbach-goeslikon.ch/events/donnschtigs-gottesdienst-mit-rita-wolan-und-walbu
 rga-grimm-in-der-kirche-niederwil/
URL:https://www.fischbach-goeslikon.ch/events/donnschtigs-gottesdienst-mit-rita-wolan-und-walburga-grimm-in-der-kirche-niederwil/
END:VEVENT
END:VCALENDAR