BEGIN:VCALENDAR
VERSION:2.0
PRODID:-//eventon.com NONSGML v1.0//EN
CALSCALE:GREGORIAN
METHOD:PUBLISH
BEGIN:VEVENT
UID:69e73fab9f700
DTSTAMP:20260421T091315Z
DTSTART:20201011T103000Z
DTEND:20201011T235000Z
LOCATION:Kath. Kirche Niederwil
SUMMARY:Hubertusmesse - Wortgottesdienst mit Kommunion in Niederwil
DESCRIPTION:Am 11. Oktober 2020 findet die Hubertusmesse &#8211; Wortgottes
 dienst mit Kommunion\,  mit M. Leutenegger und den Jagdhornbläser Goldwand
  aus Baden statt. Wo: Kirche Niederwil Kollekte: Die Dargebotene Hand Tel. 
 143\nhttps://www.fischbach-goeslikon.ch/events/hubertusmesse-wortgottesdien
 st-mit-kommunion-mit-m-leutenegger-und-jagdhornblaeser-goldwand/
URL:https://www.fischbach-goeslikon.ch/events/hubertusmesse-wortgottesdienst-mit-kommunion-mit-m-leutenegger-und-jagdhornblaeser-goldwand/
END:VEVENT
END:VCALENDAR