BEGIN:VCALENDAR
VERSION:2.0
PRODID:-//eventon.com NONSGML v1.0//EN
CALSCALE:GREGORIAN
METHOD:PUBLISH
BEGIN:VEVENT
UID:69e860004e4de
DTSTAMP:20260422T054328Z
DTSTART:20200704T173000Z
DTEND:20200704T235000Z
LOCATION:Kirche Niederwil
SUMMARY:Wortgottesdienst mit Kommunionfeier\,  in der Pfarrkirche Niederwil
DESCRIPTION:Wortgottesdienst mit Kommunionfeier mit Stefan Heim. Die Kirche
  Maria Himmelfahrt bleibt infolge Renovationsarbeiten bis auf weiteres gesc
 hlossen. &nbsp;\nhttps://www.fischbach-goeslikon.ch/events/wortgottesdienst
 -mit-kommunionfeier-mit-stefan-heim-in-der-pfarrkirche-niederwil/
URL:https://www.fischbach-goeslikon.ch/events/wortgottesdienst-mit-kommunionfeier-mit-stefan-heim-in-der-pfarrkirche-niederwil/
END:VEVENT
END:VCALENDAR